BEGIN:VCALENDAR
PRODID:-//Microsoft Corporation//Outlook 9.0 MIMEDIR//EN
VERSION:2.0
CALSCALE:GREGORIAN
BEGIN:VTIMEZONE
TZID:Europe/Brussels
BEGIN:DAYLIGHT
TZOFFSETFROM:+0100
RRULE:FREQ=YEARLY;BYMONTH=3;BYDAY=-1SU
DTSTART:19810329T020000
TZNAME:CEST
TZOFFSETTO:+0200
END:DAYLIGHT
BEGIN:STANDARD
TZOFFSETFROM:+0200
RRULE:FREQ=YEARLY;BYMONTH=10;BYDAY=-1SU
DTSTART:19961027T030000
TZNAME:CET
TZOFFSETTO:+0100
END:STANDARD
END:VTIMEZONE

BEGIN:VEVENT
DTSTART;TZID=Europe/Brussels:20261119T123000
DTEND;TZID=Europe/Brussels:20261120T140000
LOCATION:Chancellerie Auditorium of BNP Paribas Fortis, Rue de la Chancellerie 1, 1000 Bruxelles, 
SUMMARY:Investment Management Forum 2026

END:VEVENT
END:VCALENDAR